BEGIN:VCALENDAR
VERSION:2.0
PRODID:-//Bartow History Museum - ECPv6.15.20//NONSGML v1.0//EN
CALSCALE:GREGORIAN
METHOD:PUBLISH
X-WR-CALNAME:Bartow History Museum
X-ORIGINAL-URL:https://bartowhistorymuseum.org
X-WR-CALDESC:Events for Bartow History Museum
REFRESH-INTERVAL;VALUE=DURATION:PT1H
X-Robots-Tag:noindex
X-PUBLISHED-TTL:PT1H
BEGIN:VTIMEZONE
TZID:America/New_York
BEGIN:DAYLIGHT
TZOFFSETFROM:-0500
TZOFFSETTO:-0400
TZNAME:EDT
DTSTART:20240310T070000
END:DAYLIGHT
BEGIN:STANDARD
TZOFFSETFROM:-0400
TZOFFSETTO:-0500
TZNAME:EST
DTSTART:20241103T060000
END:STANDARD
BEGIN:DAYLIGHT
TZOFFSETFROM:-0500
TZOFFSETTO:-0400
TZNAME:EDT
DTSTART:20250309T070000
END:DAYLIGHT
BEGIN:STANDARD
TZOFFSETFROM:-0400
TZOFFSETTO:-0500
TZNAME:EST
DTSTART:20251102T060000
END:STANDARD
BEGIN:DAYLIGHT
TZOFFSETFROM:-0500
TZOFFSETTO:-0400
TZNAME:EDT
DTSTART:20260308T070000
END:DAYLIGHT
BEGIN:STANDARD
TZOFFSETFROM:-0400
TZOFFSETTO:-0500
TZNAME:EST
DTSTART:20261101T060000
END:STANDARD
END:VTIMEZONE
BEGIN:VEVENT
DTSTART;TZID=America/New_York:20251004T170000
DTEND;TZID=America/New_York:20251004T190000
DTSTAMP:20260423T080833
CREATED:20250829T192344Z
LAST-MODIFIED:20250918T141302Z
UID:10002775-1759597200-1759604400@bartowhistorymuseum.org
SUMMARY:Cemetery Tour
DESCRIPTION:Discover Bartow County’s History: Evening Tours of Oak Hill Cemetery!\nStep into the past with the Bartow History Museum and the Woodland High School Fine Arts Department during an evening of storytelling at historic Oak Hill Cemetery. Meet the figures who shaped Bartow County’s history – including Amos Akerman\, Dr. William H. Felton\, Aaron Hazelwood\, Gertrude Weaver\, Lewis Tumlin\, Louisa Cecilia Stovall Shelman\, and more – as their stories are brought to life. \nTours depart every half hour from 5:00 p.m. to 7:00 p.m.\, with each tour lasting about an hour. \nAbout Oak Hill Cemetery:Established around 1838 as the burial ground for the Ebenezer Methodist congregation\, Oak Hill is one of Cartersville’s most historic landmarks. Though many early graves are unmarked\, the site remains a place of memory and legacy. In 1869\, the Cartersville town council designated the “Old Methodist Cemetery” as a public burial ground\, officially naming it Oak Hill just a few years later. \nImportant Ticket Information:\nRegistration is required. Tickets are $15 and will not be sold at the cemetery on the day of the event. If you do not have a ticket in advance\, please do not come to the cemetery\, as we will not sell cash-only tickets. The only ways to purchase tickets are through the Bartow History Museum gift shop or our website. \nSPONSORED BY:\n \nGet Your Tickets Here
URL:https://bartowhistorymuseum.org/event/cemetery-tour/
LOCATION:Oak Hill Cemetery – Cartersville\, 319 N Erwin St\, Cartersville\, GA\, 30120\, United States
CATEGORIES:Adults,Lectures/Programs,Museum After Dark,Other Events
ATTACH;FMTTYPE=image/png:https://bartowhistorymuseum.org/wp-content/uploads/2025/08/Cemetery-Tour-Parnick-Jennings-Logo-2025.png
END:VEVENT
BEGIN:VEVENT
DTSTART;TZID=America/New_York:20251011T083000
DTEND;TZID=America/New_York:20251011T100000
DTSTAMP:20260423T080833
CREATED:20251008T144929Z
LAST-MODIFIED:20251008T145316Z
UID:10002783-1760171400-1760176800@bartowhistorymuseum.org
SUMMARY:The United States of America Vietnam War Commemoration
DESCRIPTION:Honor their Service – Celebrate Vietnam Veterans!\nWe invite all veterans who served between November 1\, 1955\, and May 15\, 1975\, or their representing family members\, to a free commemoration ceremony with Commander Denny Holmes\, USN (Ret.). \nHeld on behalf of the U.S. Department of Defense\, this ceremony recognizes the courage\, sacrifice\, and dedication of Vietnam-era veterans. All veterans and community members are welcome to attend and pay tribute to this remarkable generation. \nPreserve your legacy:In partnership with the Bartow History Museum\, Bartow County veterans are invited to share Vietnam-era memorabilia for preservation. Contact archives@bartowhistorymuseum.org to contribute. \nRegistration is free for all attendees.  \nReserve your spot today here!
URL:https://bartowhistorymuseum.org/event/the-united-states-of-america-vietnam-war-commemoration/
LOCATION:Tellus Science Museum\, 100 Tellus Drive\, Cartersville\, 30120\, United States
CATEGORIES:Adults,Other Events
ATTACH;FMTTYPE=image/png:https://bartowhistorymuseum.org/wp-content/uploads/2025/10/Vietnam-War-Commemoration-10.11.25-2.png
END:VEVENT
BEGIN:VEVENT
DTSTART;TZID=America/New_York:20251015T120000
DTEND;TZID=America/New_York:20251015T130000
DTSTAMP:20260423T080833
CREATED:20250930T143534Z
LAST-MODIFIED:20250930T183602Z
UID:10002777-1760529600-1760533200@bartowhistorymuseum.org
SUMMARY:Lunch & Learn: Lunchtime with Sheep - How Flocks Shaped America
DESCRIPTION:Brett Bannor Explores America’s Unexpected History – Through Sheep\nThe Bartow History Museum invites you to a Lunch & Learn with Brett Bannor on Wednesday\, October 15\, from 12 p.m. to 1 p.m. Bannor presents his book\, American Sheep: A Cultural History\, and reveals the surprising ways sheep shaped the United States. From wool shortages and wartime crises to meat production\, industry\, and even lawn maintenance\, he shows how sheep connect to major historical topics such as slavery\, industrialization\, taxation\, conservation\, and labor relations – all brought to life through his engaging storytelling. \nAbout Brett BannorBrett Bannor manages Animal Collections at the Atlanta History Center\, where he cares for the institution’s domestic animals\, including sheep. He has also authored several articles on natural and cultural history. \nAdmission\n\nFree for museum members\n$9 for non-members\n\nJoin us for a fascinating hour of history\, culture\, and unexpected connections – and don’t forget to bring your lunch! \nGet Your Tickets Here
URL:https://bartowhistorymuseum.org/event/lunch-learn-lunchtime-with-sheep-how-flocks-shaped-america/
LOCATION:Bartow History Museum\, 4 East Church Street\, Cartersville\, GA\, 30120\, United States
CATEGORIES:Adults,Lectures/Programs
ATTACH;FMTTYPE=image/png:https://bartowhistorymuseum.org/wp-content/uploads/2025/09/Lunch-Learn-Lunchtime-w.-Sheep-How-Flocks-Shaped-America-10.15.25.png
END:VEVENT
BEGIN:VEVENT
DTSTART;TZID=America/New_York:20251025T100000
DTEND;TZID=America/New_York:20251025T170000
DTSTAMP:20260423T080833
CREATED:20250930T145019Z
LAST-MODIFIED:20251003T195458Z
UID:10002779-1761386400-1761411600@bartowhistorymuseum.org
SUMMARY:Sheep to Shawl at West Fest
DESCRIPTION:Sheep to Shawl: Watch Fiber Transform into Art\nThe Bartow History Museum invites you to Sheep to Shawl on Saturday\, October 25\, from 10 a.m. to 5 p.m. Join the Etowah Valley Hand Spinners Guild and the Peachtree Hand-spinners Guild for a live demonstration of the complete process of turning raw fiber into yarn and\, ultimately\, a handcrafted shawl. Guild members will show how to clean\, card\, spin\, and weave wool\, giving visitors an up-close look at this traditional craft. \nGuests can watch\, ask questions\, and learn about the history and techniques of spinning fibers such as wool\, cotton\, and silk. Attendees also have a chance to win a handmade cotton shawl by Leslie Bronson in a raffle. \nAdmission:\n\nFree for Bartow History Museum and Booth Western Art Museum members.  (Members check in at BHM front desk on the day of the event.  No need to register.)\n$16 for non-members (includes admission to Booth Museum’s West Fest on 10/25/25)\n\nDiscover the artistry and history behind spinning and weaving\, and experience the craft come to life! \nGet Your Tickets Here
URL:https://bartowhistorymuseum.org/event/sheep-to-shawl-at-west-fest/
LOCATION:Bartow History Museum\, 4 East Church Street\, Cartersville\, GA\, 30120\, United States
CATEGORIES:Adults,Exhibitions,Kids
ATTACH;FMTTYPE=image/png:https://bartowhistorymuseum.org/wp-content/uploads/2025/09/Sheep-to-Shawl-West-Fest-10.25.25-scaled.png
END:VEVENT
BEGIN:VEVENT
DTSTART;TZID=America/New_York:20251030T190000
DTEND;TZID=America/New_York:20251030T200000
DTSTAMP:20260423T080833
CREATED:20250930T143243Z
LAST-MODIFIED:20251030T180348Z
UID:10002778-1761850800-1761854400@bartowhistorymuseum.org
SUMMARY:Evening Lecture: Ghost Stories of North Georgia
DESCRIPTION:An Evening of Ghost Stories and Legends with Jordan Duncan!\nThe Bartow History Museum invites you to an evening lecture with Jordan Duncan on Thursday\, October 30\, from 7 to 8 p.m. Duncan will share chilling ghost stories\, local legends\, and historical accounts of haunted locations throughout North Georgia\, offering a fascinating glimpse into the state’s mysterious past. \nAbout Jordan DuncanOriginally from south Louisiana\, Jordan Duncan has lived in Georgia since 1998. He holds a Bachelor’s Degree in World History and Cultures\, a certificate in Public History\, and a minor in Classical Studies from Kennesaw State University. He lives in Canton\, Georgia\, with his wife\, Chelsea\, and their three cats. Over the past seven years\, Duncan has served in various museum roles. Along with his passion for history and education\, he is an avid fan of music\, film\, animation\, comic books\, and video games. Always up for a good ghost story\, he also enjoys vlogging and podcasting in his spare time. \nAdmission:\n\nFree for museum members\n$9 for non-members\n\nGet Your Tickets Here
URL:https://bartowhistorymuseum.org/event/evening-lecture-ghost-stories-of-north-georgia/
LOCATION:Bartow History Museum\, 4 East Church Street\, Cartersville\, GA\, 30120\, United States
CATEGORIES:Adults,Lectures/Programs
ATTACH;FMTTYPE=image/png:https://bartowhistorymuseum.org/wp-content/uploads/2025/09/Ghost-Stories-of-North-Georgia.png
END:VEVENT
END:VCALENDAR