BEGIN:VCALENDAR
VERSION:2.0
PRODID:-//Bartow History Museum - ECPv6.15.20//NONSGML v1.0//EN
CALSCALE:GREGORIAN
METHOD:PUBLISH
X-ORIGINAL-URL:https://bartowhistorymuseum.org
X-WR-CALDESC:Events for Bartow History Museum
REFRESH-INTERVAL;VALUE=DURATION:PT1H
X-Robots-Tag:noindex
X-PUBLISHED-TTL:PT1H
BEGIN:VTIMEZONE
TZID:America/New_York
BEGIN:DAYLIGHT
TZOFFSETFROM:-0500
TZOFFSETTO:-0400
TZNAME:EDT
DTSTART:20150308T070000
END:DAYLIGHT
BEGIN:STANDARD
TZOFFSETFROM:-0400
TZOFFSETTO:-0500
TZNAME:EST
DTSTART:20151101T060000
END:STANDARD
BEGIN:DAYLIGHT
TZOFFSETFROM:-0500
TZOFFSETTO:-0400
TZNAME:EDT
DTSTART:20160313T070000
END:DAYLIGHT
BEGIN:STANDARD
TZOFFSETFROM:-0400
TZOFFSETTO:-0500
TZNAME:EST
DTSTART:20161106T060000
END:STANDARD
BEGIN:DAYLIGHT
TZOFFSETFROM:-0500
TZOFFSETTO:-0400
TZNAME:EDT
DTSTART:20170312T070000
END:DAYLIGHT
BEGIN:STANDARD
TZOFFSETFROM:-0400
TZOFFSETTO:-0500
TZNAME:EST
DTSTART:20171105T060000
END:STANDARD
BEGIN:DAYLIGHT
TZOFFSETFROM:-0500
TZOFFSETTO:-0400
TZNAME:EDT
DTSTART:20180311T070000
END:DAYLIGHT
BEGIN:STANDARD
TZOFFSETFROM:-0400
TZOFFSETTO:-0500
TZNAME:EST
DTSTART:20181104T060000
END:STANDARD
BEGIN:DAYLIGHT
TZOFFSETFROM:-0500
TZOFFSETTO:-0400
TZNAME:EDT
DTSTART:20190310T070000
END:DAYLIGHT
BEGIN:STANDARD
TZOFFSETFROM:-0400
TZOFFSETTO:-0500
TZNAME:EST
DTSTART:20191103T060000
END:STANDARD
BEGIN:DAYLIGHT
TZOFFSETFROM:-0500
TZOFFSETTO:-0400
TZNAME:EDT
DTSTART:20200308T070000
END:DAYLIGHT
BEGIN:STANDARD
TZOFFSETFROM:-0400
TZOFFSETTO:-0500
TZNAME:EST
DTSTART:20201101T060000
END:STANDARD
BEGIN:DAYLIGHT
TZOFFSETFROM:-0500
TZOFFSETTO:-0400
TZNAME:EDT
DTSTART:20210314T070000
END:DAYLIGHT
BEGIN:STANDARD
TZOFFSETFROM:-0400
TZOFFSETTO:-0500
TZNAME:EST
DTSTART:20211107T060000
END:STANDARD
END:VTIMEZONE
BEGIN:VEVENT
DTSTART;VALUE=DATE:20200418
DTEND;VALUE=DATE:20200419
DTSTAMP:20260421T072307
CREATED:20191030T150330Z
LAST-MODIFIED:20200317T212553Z
UID:10002557-1587168000-1587254399@bartowhistorymuseum.org
SUMMARY:Backyard Farms - Postponed
DESCRIPTION:The Bartow History Museum Backyard Farms day is scheduled for April 18 in Cartersville.  Please check back for more information.
URL:https://bartowhistorymuseum.org/event/bake-sale-farm-day/
LOCATION:4 East Church Street\, Cartersville\, GA\, 30120\, United States
CATEGORIES:Adults,Bake Sale,Kids
ATTACH;FMTTYPE=image/jpeg:https://bartowhistorymuseum.org/wp-content/uploads/2019/10/farm-day.jpg
END:VEVENT
BEGIN:VEVENT
DTSTART;TZID=America/New_York:20180818T100000
DTEND;TZID=America/New_York:20180818T130000
DTSTAMP:20260421T072307
CREATED:20170831T140514Z
LAST-MODIFIED:20191030T135020Z
UID:10002472-1534586400-1534597200@bartowhistorymuseum.org
SUMMARY:Baked Goods and Backyard Farms
DESCRIPTION:Join us for our annual bake sale fundraiser and family farm life event on Saturday\, August 18\, from 10 a.m. to 1 p.m. \nThe Bake Sale will feature goodies from local restaurants and friends of the museum\, including Grand Oaks\, Nola’s Bakery\, Table 20\, Adam’s BBQ\, Alisha’s Kitchen\, Meg Pie\, Stonewall Manor\, Swheat Market\, Sweet Things by Shelley\, That Foreign Chick\, The Muffin Lady\, Ross’ Diner\, and more. \nThe Event will also include special presentations\, antique tractor show\, petting zoo\, barrel train rides\, kids activities\, and more. \nSpeaker Schedule:\n10:15 – Maxine Sutton\, Getting To Know the Milking Goat\n11:00 – Paul Pugliese\, Fall Vegetable Gardening\n11:45 – Tina Evans\, Wool: Farm to Fashion\n12:30 – Paul Pugliese\, Growing Georgia Fruits \nSponsored by AgGeorgia Farm Credit\, Georgia Farm Bureau\, and Cartersville-Bartow Convention & Visitor’s Bureau. \nFor more information\, click here.
URL:https://bartowhistorymuseum.org/event/baked-goods-backyard-farms-2/
LOCATION:4 East Church Street\, Cartersville\, GA\, 30120\, United States
CATEGORIES:Bake Sale
END:VEVENT
BEGIN:VEVENT
DTSTART;TZID=America/New_York:20160806T090000
DTEND;TZID=America/New_York:20160806T140000
DTSTAMP:20260421T072307
CREATED:20160702T003809Z
LAST-MODIFIED:20191030T135020Z
UID:10002440-1470474000-1470492000@bartowhistorymuseum.org
SUMMARY:Baked Goods and Backyard Farms
DESCRIPTION:Combining our annual bake sale fundraiser with a look at local farming\, this event will provide an opportunity to discover how farming has evolved over the years in Bartow County and will give individuals who have a curiosity in hobby farming the chance to cultivate their interests. \nThe Bartow County UGA extension office and the Bartow County Master Gardeners will share their knowledge on a number of subjects throughout the day. \nMembers of the Gordon County Antique Engine and Tractor Club will be displaying an assortment of antique tractors that are sure to delight young and old. \nKids will be able to a ride on the barrel train\, make a craft\, and participate in other fun activities. No need to worry about lunch as hot dogs and lemonade will be available for purchase. \nThe day will kick off with the bake sale fundraiser at 9 am. Featuring baked goodies from local restaurants and friends of the museum\, this will be a great way to pick up a tasty treat while helping to ensure that we can continue to offer educational opportunities throughout the year. Participants in this year’s sale include Adam’s BBQ\, Grand Oaks\, Johnny Mitchell’s\, Adairsville Inn\, Udder Delights\, Jake’s Fresh Market & Cannery\, Table 20\, and more. \nSchedule of Events: \nBake Sale & Antique Tractor Show – 9 a.m. to 2 p.m. \nBartow Farming History – 9:30 a.m. to 10 a.m. \nRaising Backyard Chickens – 10:15 a.m. to 10:45 a.m. \nBecoming a Beekeeper – 11 a.m. to 11:30 p.m. \nPlanting Herbs – 11:45 a.m. to 12:15 p.m. \nGrowing an Organic Garden – 12:30 to 1:00 p.m. \nFor more information call Trey Gaines at 770-382-3818 x 6286
URL:https://bartowhistorymuseum.org/event/baked-goods-backyard-farms/
LOCATION:4 East Church Street\, Cartersville\, GA\, 30120\, United States
CATEGORIES:Bake Sale,Other Events
END:VEVENT
END:VCALENDAR