BEGIN:VCALENDAR
VERSION:2.0
PRODID:-//Bartow History Museum - ECPv6.15.20//NONSGML v1.0//EN
CALSCALE:GREGORIAN
METHOD:PUBLISH
X-ORIGINAL-URL:https://bartowhistorymuseum.org
X-WR-CALDESC:Events for Bartow History Museum
REFRESH-INTERVAL;VALUE=DURATION:PT1H
X-Robots-Tag:noindex
X-PUBLISHED-TTL:PT1H
BEGIN:VTIMEZONE
TZID:America/New_York
BEGIN:DAYLIGHT
TZOFFSETFROM:-0500
TZOFFSETTO:-0400
TZNAME:EDT
DTSTART:20240310T070000
END:DAYLIGHT
BEGIN:STANDARD
TZOFFSETFROM:-0400
TZOFFSETTO:-0500
TZNAME:EST
DTSTART:20241103T060000
END:STANDARD
BEGIN:DAYLIGHT
TZOFFSETFROM:-0500
TZOFFSETTO:-0400
TZNAME:EDT
DTSTART:20250309T070000
END:DAYLIGHT
BEGIN:STANDARD
TZOFFSETFROM:-0400
TZOFFSETTO:-0500
TZNAME:EST
DTSTART:20251102T060000
END:STANDARD
BEGIN:DAYLIGHT
TZOFFSETFROM:-0500
TZOFFSETTO:-0400
TZNAME:EDT
DTSTART:20260308T070000
END:DAYLIGHT
BEGIN:STANDARD
TZOFFSETFROM:-0400
TZOFFSETTO:-0500
TZNAME:EST
DTSTART:20261101T060000
END:STANDARD
END:VTIMEZONE
BEGIN:VEVENT
DTSTART;TZID=America/New_York:20250707T090000
DTEND;TZID=America/New_York:20250711T120000
DTSTAMP:20260421T114613
CREATED:20250219T195743Z
LAST-MODIFIED:20250227T154329Z
UID:10002757-1751878800-1752235200@bartowhistorymuseum.org
SUMMARY:Summer Camp: Zoo Crew Adventure!
DESCRIPTION:Join the Zoo Crew: Animal-Themed Summer Camp at Bartow History Museum!\nGet ready for a wild adventure at the Bartow History Museum’s Zoo Crew summer camp! From July 7–11\, 2025\, from 9 AM to 12 PM\, children ages 5-7 are invited to explore the world of animals\, from Georgia’s native wildlife to exotic zoo creatures. \nThroughout the week\, Zoo Crew campers will dive into hands-on activities\, crafts\, and games designed to spark excitement and learning. They’ll discover fascinating facts about their favorite animals while creating unforgettable memories. It’s an adventure that’s sure to make them RAWR with excitement! \nRegistration is now open! The cost is $115 per camper\, with a 10% discount available for museum members. \nSpaces are limited\, so register today to secure your child’s spot in the Zoo Crew! \nGet Your Tickets Here
URL:https://bartowhistorymuseum.org/event/summer-camp-zoo-crew-adventure/
LOCATION:Bartow History Museum\, 4 East Church Street\, Cartersville\, GA\, 30120\, United States
CATEGORIES:Camps,Kids
ATTACH;FMTTYPE=image/png:https://bartowhistorymuseum.org/wp-content/uploads/2025/02/Zoo-Crew-Adventure-FBIG.png
END:VEVENT
BEGIN:VEVENT
DTSTART;TZID=America/New_York:20250721T090000
DTEND;TZID=America/New_York:20250725T120000
DTSTAMP:20260421T114613
CREATED:20250219T195214Z
LAST-MODIFIED:20250227T154348Z
UID:10002756-1753088400-1753444800@bartowhistorymuseum.org
SUMMARY:Summer Camp: Time Travelers!
DESCRIPTION:Step Back in Time: Bartow History Museum Hosts Time Travelers Summer Camp!\nEver wondered what it was like to live in the past? Now’s your chance to experience history firsthand with the Time Travelers summer camp at the Bartow History Museum! Running July 21–25\, 2025\, from 9 AM to 12 PM\, this immersive camp invites children ages 8-12 to journey through different historical eras\, with a special focus on local Bartow County history. \nGuided by two real-life historians\, campers will engage in exciting activities\, crafts\, and museum explorations that will bring history to life. From interactive lessons to hands-on experiences\, campers will walk through the past and uncover the stories that shaped our community. \nRegistration is now open! The cost is $115 per camper\, with a 10% discount available for museum members. \nSpaces are limited\, so don’t wait—register today for this unforgettable historical adventure! \nGet Your Tickets Here
URL:https://bartowhistorymuseum.org/event/summer-camp-time-travelers/
LOCATION:Bartow History Museum\, 4 East Church Street\, Cartersville\, GA\, 30120\, United States
CATEGORIES:Camps,Kids
ATTACH;FMTTYPE=image/png:https://bartowhistorymuseum.org/wp-content/uploads/2025/02/Time-Travelers-FBIG.png
END:VEVENT
END:VCALENDAR