BEGIN:VCALENDAR
VERSION:2.0
PRODID:-//Bartow History Museum - ECPv6.15.20//NONSGML v1.0//EN
CALSCALE:GREGORIAN
METHOD:PUBLISH
X-WR-CALNAME:Bartow History Museum
X-ORIGINAL-URL:https://bartowhistorymuseum.org
X-WR-CALDESC:Events for Bartow History Museum
REFRESH-INTERVAL;VALUE=DURATION:PT1H
X-Robots-Tag:noindex
X-PUBLISHED-TTL:PT1H
BEGIN:VTIMEZONE
TZID:America/New_York
BEGIN:DAYLIGHT
TZOFFSETFROM:-0500
TZOFFSETTO:-0400
TZNAME:EDT
DTSTART:20230312T070000
END:DAYLIGHT
BEGIN:STANDARD
TZOFFSETFROM:-0400
TZOFFSETTO:-0500
TZNAME:EST
DTSTART:20231105T060000
END:STANDARD
BEGIN:DAYLIGHT
TZOFFSETFROM:-0500
TZOFFSETTO:-0400
TZNAME:EDT
DTSTART:20240310T070000
END:DAYLIGHT
BEGIN:STANDARD
TZOFFSETFROM:-0400
TZOFFSETTO:-0500
TZNAME:EST
DTSTART:20241103T060000
END:STANDARD
BEGIN:DAYLIGHT
TZOFFSETFROM:-0500
TZOFFSETTO:-0400
TZNAME:EDT
DTSTART:20250309T070000
END:DAYLIGHT
BEGIN:STANDARD
TZOFFSETFROM:-0400
TZOFFSETTO:-0500
TZNAME:EST
DTSTART:20251102T060000
END:STANDARD
END:VTIMEZONE
BEGIN:VEVENT
DTSTART;TZID=America/New_York:20240610T090000
DTEND;TZID=America/New_York:20240614T120000
DTSTAMP:20260425T094945
CREATED:20240401T190147Z
LAST-MODIFIED:20240401T190710Z
UID:10002719-1718010000-1718366400@bartowhistorymuseum.org
SUMMARY:Safari Seekers Summer Camp
DESCRIPTION:Join the Bartow History Museum as we go on a safari in our museum!\nWe’ll journey from the depths of oceans to the peaks of mountains\, and across vast savannahs\, while learning about animals from around the world. Grab your pith hat; it’s time to embark on a safari! \nTickets for this summer camp are priced at $115 per camper. \n*This camp is tailored for children aged 5 to 7 years old. \nGet Your Tickets Here
URL:https://bartowhistorymuseum.org/event/safari-seekers-summer-camp/
LOCATION:Bartow History Museum\, 4 East Church Street\, Cartersville\, GA\, 30120\, United States
CATEGORIES:Camps,Kids
ATTACH;FMTTYPE=image/png:https://bartowhistorymuseum.org/wp-content/uploads/2024/04/Safari-Seekers-FBIG-1.png
END:VEVENT
BEGIN:VEVENT
DTSTART;TZID=America/New_York:20240624T090000
DTEND;TZID=America/New_York:20240628T120000
DTSTAMP:20260425T094945
CREATED:20240401T190642Z
LAST-MODIFIED:20240404T172752Z
UID:10002720-1719219600-1719576000@bartowhistorymuseum.org
SUMMARY:Pirate Party Summer Camp
DESCRIPTION:Arrrrrgh\, mateys! If it’s adventure you seek\, look no further than the Bartow History Museum!\nJoin us for a week-long camp as we recount pirate tales\, sing sea shanties\, and perhaps even uncover buried treasure! \nTickets for this summer camp are priced at $115 per camper. \n*This camp is tailored for children aged 5 to 7 years old. \nGET YOUR TICKETS HERE
URL:https://bartowhistorymuseum.org/event/pirate-party-summer-camp/
LOCATION:Bartow History Museum\, 4 East Church Street\, Cartersville\, GA\, 30120\, United States
CATEGORIES:Camps,Kids
ATTACH;FMTTYPE=image/png:https://bartowhistorymuseum.org/wp-content/uploads/2024/04/Pirate-Party-FBIG.png
END:VEVENT
END:VCALENDAR