BEGIN:VCALENDAR
VERSION:2.0
PRODID:-//Bartow History Museum - ECPv6.15.20//NONSGML v1.0//EN
CALSCALE:GREGORIAN
METHOD:PUBLISH
X-ORIGINAL-URL:https://bartowhistorymuseum.org
X-WR-CALDESC:Events for Bartow History Museum
REFRESH-INTERVAL;VALUE=DURATION:PT1H
X-Robots-Tag:noindex
X-PUBLISHED-TTL:PT1H
BEGIN:VTIMEZONE
TZID:America/New_York
BEGIN:DAYLIGHT
TZOFFSETFROM:-0500
TZOFFSETTO:-0400
TZNAME:EDT
DTSTART:20190310T070000
END:DAYLIGHT
BEGIN:STANDARD
TZOFFSETFROM:-0400
TZOFFSETTO:-0500
TZNAME:EST
DTSTART:20191103T060000
END:STANDARD
BEGIN:DAYLIGHT
TZOFFSETFROM:-0500
TZOFFSETTO:-0400
TZNAME:EDT
DTSTART:20200308T070000
END:DAYLIGHT
BEGIN:STANDARD
TZOFFSETFROM:-0400
TZOFFSETTO:-0500
TZNAME:EST
DTSTART:20201101T060000
END:STANDARD
BEGIN:DAYLIGHT
TZOFFSETFROM:-0500
TZOFFSETTO:-0400
TZNAME:EDT
DTSTART:20210314T070000
END:DAYLIGHT
BEGIN:STANDARD
TZOFFSETFROM:-0400
TZOFFSETTO:-0500
TZNAME:EST
DTSTART:20211107T060000
END:STANDARD
BEGIN:DAYLIGHT
TZOFFSETFROM:-0500
TZOFFSETTO:-0400
TZNAME:EDT
DTSTART:20220313T070000
END:DAYLIGHT
BEGIN:STANDARD
TZOFFSETFROM:-0400
TZOFFSETTO:-0500
TZNAME:EST
DTSTART:20221106T060000
END:STANDARD
BEGIN:DAYLIGHT
TZOFFSETFROM:-0500
TZOFFSETTO:-0400
TZNAME:EDT
DTSTART:20230312T070000
END:DAYLIGHT
BEGIN:STANDARD
TZOFFSETFROM:-0400
TZOFFSETTO:-0500
TZNAME:EST
DTSTART:20231105T060000
END:STANDARD
BEGIN:DAYLIGHT
TZOFFSETFROM:-0500
TZOFFSETTO:-0400
TZNAME:EDT
DTSTART:20240310T070000
END:DAYLIGHT
BEGIN:STANDARD
TZOFFSETFROM:-0400
TZOFFSETTO:-0500
TZNAME:EST
DTSTART:20241103T060000
END:STANDARD
BEGIN:DAYLIGHT
TZOFFSETFROM:-0500
TZOFFSETTO:-0400
TZNAME:EDT
DTSTART:20250309T070000
END:DAYLIGHT
BEGIN:STANDARD
TZOFFSETFROM:-0400
TZOFFSETTO:-0500
TZNAME:EST
DTSTART:20251102T060000
END:STANDARD
BEGIN:DAYLIGHT
TZOFFSETFROM:-0500
TZOFFSETTO:-0400
TZNAME:EDT
DTSTART:20260308T070000
END:DAYLIGHT
BEGIN:STANDARD
TZOFFSETFROM:-0400
TZOFFSETTO:-0500
TZNAME:EST
DTSTART:20261101T060000
END:STANDARD
END:VTIMEZONE
BEGIN:VEVENT
DTSTART;TZID=America/New_York:20250918T100000
DTEND;TZID=America/New_York:20250918T140000
DTSTAMP:20260423T085150
CREATED:20250903T165354Z
LAST-MODIFIED:20250903T170017Z
UID:10002776-1758189600-1758204000@bartowhistorymuseum.org
SUMMARY:Home School Day: Gold Rush!
DESCRIPTION:Strike it rich with fun and learning! Join the Booth Museum and Bartow History Museum for an action-packed day exploring the Georgia and California Gold Rush.\nPan for gold\, navigate an obstacle course\, build a stagecoach\, and discover the adventures of the Wild West – all through hands-on activities designed for kids ages 4 – 12. \nAdmission:\n\n$5 per student\n$6 per parent\nChildren 3 and under not participating in activities are free\n\nRegistration is required. \nGet Your Tickets Here
URL:https://bartowhistorymuseum.org/event/home-school-day-gold-rush/
LOCATION:Bartow History Museum\, 4 East Church Street\, Cartersville\, GA\, 30120\, United States
ATTACH;FMTTYPE=image/png:https://bartowhistorymuseum.org/wp-content/uploads/2025/09/The-Bartow-History-Museum-Booth-Western-Art-Museum-Present-1.png
END:VEVENT
BEGIN:VEVENT
DTSTART;TZID=America/New_York:20250911T170000
DTEND;TZID=America/New_York:20250911T200000
DTSTAMP:20260423T085150
CREATED:20250523T172437Z
LAST-MODIFIED:20250903T170041Z
UID:10002767-1757610000-1757620800@bartowhistorymuseum.org
SUMMARY:Educator Night: Raiders of the Lost Art
DESCRIPTION:Join the Bartow History Museum for a special evening just for educators!\nExplore the museum after hours\, connect with fellow educators\, and enjoy Indiana Jones – inspired fun at Educator Night – Raiders of the Lost Art. Guests can take part in an optional scavenger hunt-style adventure\, visit the museum galleries at their leisure\, and enjoy a night full of creativity and celebration. \nThe event will feature themed activities\, a selfie station\, art-making stations\, food\, adult beverages\, and giveaways. \nThis event is free for educators and anyone working in the school system with valid ID. Each educator may bring one guest (21 or older); guest admission is $16. Registration is required by September 4\, 2025. \nAdmission:\n\nFree for educators and school system staff (with ID)\n$16 for one adult guest per educator (must be 21+)\n\nGet Your Tickets Here
URL:https://bartowhistorymuseum.org/event/educator-night-raiders-of-the-lost-art/
LOCATION:Bartow History Museum\, 4 East Church Street\, Cartersville\, GA\, 30120\, United States
CATEGORIES:Kids
ATTACH;FMTTYPE=image/png:https://bartowhistorymuseum.org/wp-content/uploads/2025/05/Educator-Night.png
END:VEVENT
BEGIN:VEVENT
DTSTART;TZID=America/New_York:20230824T170000
DTEND;TZID=America/New_York:20230824T200000
DTSTAMP:20260423T085150
CREATED:20230719T195124Z
LAST-MODIFIED:20230719T195124Z
UID:10002700-1692896400-1692907200@bartowhistorymuseum.org
SUMMARY:Educator Night
DESCRIPTION:Bartow History Museum and Booth Western Art Museum Celebrate Our Educators\nIt’s back—a night dedicated to celebrating our educators! Educators will have a chance to network with colleagues and view the Museum galleries at their leisure. Food\, adult beverages\, exhibition tours\, scavenger hunts\, selfie stations\, art making\, and giveaways will all be part of the festivities. FREE admission for educators (or anyone working in the school system with ID). Want to bring a guest? One guest per educator. Guests must be 21 years or older and pay museum admission ($13.00). Registration Deadline is August 18. \nREGISTER HERE
URL:https://bartowhistorymuseum.org/event/educator-night/
LOCATION:Bartow History Museum\, 4 East Church Street\, Cartersville\, GA\, 30120\, United States
CATEGORIES:Adults,Other Events
ATTACH;FMTTYPE=image/jpeg:https://bartowhistorymuseum.org/wp-content/uploads/2023/07/Educator-Night.jpg
END:VEVENT
BEGIN:VEVENT
DTSTART;TZID=America/New_York:20230222T100000
DTEND;TZID=America/New_York:20230222T140000
DTSTAMP:20260423T085150
CREATED:20230111T214923Z
LAST-MODIFIED:20230111T215035Z
UID:10002674-1677060000-1677074400@bartowhistorymuseum.org
SUMMARY:Home School Day
DESCRIPTION:The Symmetry of Quilts: Celebrating Art\, History\, and Math\nCost: $6 per participant; $6 per parent/guardian \nAges: 4-12 years (for activities)\, but all ages are welcome! \n(Siblings younger than 4 years not participating in activities are free) \n  \nAll families are welcome to join The Booth and Bartow History Museum for a day of hands-on learning. Take a guided tour of the quilt exhibition Black Pioneers: Legacy in the American West\, learn about and create tessellations\, design a slap bracelet with symbols and patterns\, make your very own quilt-square\, contribute to our community quilt-making project\,  at the Booth Western Art Museum! \nThen head to the  Bartow History Museum to weave a textile on your very own cardboard loom. Plus\, learn about the history of chenille and the unique peacock pattern associated with the textile — and get the chance to create your own design and an origami peacock.  A scavenger hunt between the museum and prizes for all participants are included. \n  \nRegister Here 
URL:https://bartowhistorymuseum.org/event/home-school-day/
LOCATION:Bartow History Museum\, 4 East Church Street\, Cartersville\, GA\, 30120\, United States
CATEGORIES:Homeschool,Kids
ATTACH;FMTTYPE=image/jpeg:https://bartowhistorymuseum.org/wp-content/uploads/2023/01/amish-quilt-19332009.jpg
END:VEVENT
BEGIN:VEVENT
DTSTART;TZID=America/New_York:20220909T100000
DTEND;TZID=America/New_York:20220909T140000
DTSTAMP:20260423T085150
CREATED:20220808T141838Z
LAST-MODIFIED:20220808T141838Z
UID:10002651-1662717600-1662732000@bartowhistorymuseum.org
SUMMARY:Home School Day -- STEAM
DESCRIPTION:Home School Day- STEAM (Science Technology Art Engineering and Mathematics)\nFriday\, September 9\, 2022\, 10:00 am – 2:00 pm \nAges: 5-12 years\nCost: $7.00 per participant; $7.00 per adult \n*siblings that do not fall within this age range are welcome to visit Sagebrush Ranch during the program\n*siblings under 5 years old not participating in the program are FREE\n \nREGISTRATION REQUIRED:\nRegistration deadline: September 5 Join us for our annual fall Home School Day! STEAM is the focus as participants learn about historical engineering and technology through the Bartow History Museum’s collection.  Participants will build a pinwheel and learn about windmill design\, mini stagecoach\, and telegraph key. Decipher a top-secret message (+ more)! This program is presented in collaboration with Booth Western Art Museum. \nRegister Here
URL:https://bartowhistorymuseum.org/event/home-school-day-steam/
LOCATION:Bartow History Museum\, 4 East Church Street\, Cartersville\, GA\, 30120\, United States
CATEGORIES:Homeschool,Kids
ATTACH;FMTTYPE=image/jpeg:https://bartowhistorymuseum.org/wp-content/uploads/2022/08/BWAM3786-scaled-1.jpeg
END:VEVENT
BEGIN:VEVENT
DTSTART;TZID=America/New_York:20200217T100000
DTEND;TZID=America/New_York:20200217T140000
DTSTAMP:20260423T085150
CREATED:20200109T160721Z
LAST-MODIFIED:20200204T223710Z
UID:10002568-1581933600-1581948000@bartowhistorymuseum.org
SUMMARY:Homeschool Program
DESCRIPTION:Join the Bartow History Museum and the Booth Western Art Museum as we explore how specific presidents have impacted our nation and the art they displayed as cultural markers and as symbols of America.  Parents should arrive no later than 1 p.m. with their children.  The price is $6.00 for students\, $5.00 for adults.  Tax is extra.  Tickets
URL:https://bartowhistorymuseum.org/event/homeschool-program/
LOCATION:Bartow History Museum\, 4 East Church Street\, Cartersville\, GA\, 30120\, United States
CATEGORIES:Homeschool,Kids
ATTACH;FMTTYPE=image/png:https://bartowhistorymuseum.org/wp-content/uploads/2020/01/Feb-homeschool-web.png
END:VEVENT
END:VCALENDAR